BEGIN:VCALENDAR
VERSION:2.0
PRODID:spatie/icalendar-generator
DESCRIPTION:Events from FCNCC
X-WR-CALDESC:Events from FCNCC
REFRESH-INTERVAL;VALUE=DURATION:PT1440M
X-PUBLISHED-TTL:PT1440M
BEGIN:VTIMEZONE
TZID:Etc/GMT+0
BEGIN:STANDARD
DTSTART:20210606T000000Z
TZOFFSETFROM:+0000
TZOFFSETTO:+0000
END:STANDARD
END:VTIMEZONE
BEGIN:VTIMEZONE
TZID:UTC
BEGIN:STANDARD
DTSTART:20250727T145749Z
TZOFFSETFROM:+0000
TZOFFSETTO:+0000
END:STANDARD
END:VTIMEZONE
BEGIN:VEVENT
UID:8-5
DTSTAMP:20260423T145749Z
SUMMARY:Trade Mission to Nepal
LOCATION:
ORGANIZER;CN=fcncc:MAILTO:paudel.bijay20@gmail.com
DTSTART;TZID=Etc/GMT+0;VALUE=DATE:20220303
DTEND;TZID=Etc/GMT+0;VALUE=DATE:20220304
X-ALT-DESC;FMTTYPE=TEXT/HTML:The Federation of Canada Nepal Chamber of Comm
 erce (FCNCC) is organizing a trade mission to Nepal\, led by a delegation 
 of Canadian Members of Parliament and senior government officials interact
 ing with Nepalese government officials and the Chamber of Commerce in Nepa
 l. Gain a deep understanding of the opportunities in Nepal and take advant
 age of multiple&amp;hellip\;
CATEGORIES:General
URL;VALUE=URI:https://fcncc.ca/mc-events/trade-mission-to-nepal/
METHOD:PUBLISH
END:VEVENT
END:VCALENDAR