BEGIN:VCALENDAR
VERSION:2.0
PRODID:spatie/icalendar-generator
DESCRIPTION:Events from FCNCC
X-WR-CALDESC:Events from FCNCC
REFRESH-INTERVAL;VALUE=DURATION:PT1440M
X-PUBLISHED-TTL:PT1440M
BEGIN:VTIMEZONE
TZID:Etc/GMT+0
BEGIN:STANDARD
DTSTART:20210517T000000Z
TZOFFSETFROM:+0000
TZOFFSETTO:+0000
END:STANDARD
END:VTIMEZONE
BEGIN:VTIMEZONE
TZID:UTC
BEGIN:STANDARD
DTSTART:20250727T132501Z
TZOFFSETFROM:+0000
TZOFFSETTO:+0000
END:STANDARD
END:VTIMEZONE
BEGIN:VEVENT
UID:6-6
DTSTAMP:20260423T132501Z
SUMMARY:Trekking to Mt. Everest Base Camp
LOCATION:
ORGANIZER;CN=fcncc:MAILTO:paudel.bijay20@gmail.com
DTSTART;TZID=Etc/GMT+0:20220211T000000
DTEND;TZID=Etc/GMT+0:20220211T010000
X-ALT-DESC;FMTTYPE=TEXT/HTML:
CATEGORIES:General
URL;VALUE=URI:https://fcncc.ca/mc-events/trekking-to-mt-everest-base-camp/
METHOD:PUBLISH
END:VEVENT
END:VCALENDAR